BEGIN:VCALENDAR
VERSION:2.0
PRODID:-//ACGC - ECPv6.15.20//NONSGML v1.0//EN
CALSCALE:GREGORIAN
METHOD:PUBLISH
X-ORIGINAL-URL:https://acgc.eu
X-WR-CALDESC:Évènements pour ACGC
REFRESH-INTERVAL;VALUE=DURATION:PT1H
X-Robots-Tag:noindex
X-PUBLISHED-TTL:PT1H
BEGIN:VTIMEZONE
TZID:Europe/Paris
BEGIN:DAYLIGHT
TZOFFSETFROM:+0100
TZOFFSETTO:+0200
TZNAME:CEST
DTSTART:20250330T010000
END:DAYLIGHT
BEGIN:STANDARD
TZOFFSETFROM:+0200
TZOFFSETTO:+0100
TZNAME:CET
DTSTART:20251026T010000
END:STANDARD
BEGIN:DAYLIGHT
TZOFFSETFROM:+0100
TZOFFSETTO:+0200
TZNAME:CEST
DTSTART:20260329T010000
END:DAYLIGHT
BEGIN:STANDARD
TZOFFSETFROM:+0200
TZOFFSETTO:+0100
TZNAME:CET
DTSTART:20261025T010000
END:STANDARD
BEGIN:DAYLIGHT
TZOFFSETFROM:+0100
TZOFFSETTO:+0200
TZNAME:CEST
DTSTART:20270328T010000
END:DAYLIGHT
BEGIN:STANDARD
TZOFFSETFROM:+0200
TZOFFSETTO:+0100
TZNAME:CET
DTSTART:20271031T010000
END:STANDARD
END:VTIMEZONE
BEGIN:VEVENT
DTSTART;TZID=Europe/Paris:20260423T143000
DTEND;TZID=Europe/Paris:20260423T170000
DTSTAMP:20260421T113605
CREATED:20251212T080349Z
LAST-MODIFIED:20251212T080349Z
UID:2334119-1776954600-1776963600@acgc.eu
SUMMARY:Permanence
DESCRIPTION:Simone MEISSONNIER et Anne Marie MARTELLUCCI vous accueillerons de 14h00 à 16h30
URL:https://acgc.eu/event/permanence-60/
LOCATION:Permanence\, 34 route de Nîmes\, Clarensac\, 30870\, France
CATEGORIES:Permanence
ATTACH;FMTTYPE=image/jpeg:https://acgc.eu/wp-content/uploads/2022/12/LocalAcgcClarensac.jpeg
ORGANIZER;CN="ACGC":MAILTO:contact@acgc.eu
END:VEVENT
BEGIN:VEVENT
DTSTART;TZID=Europe/Paris:20260425T093000
DTEND;TZID=Europe/Paris:20260425T120000
DTSTAMP:20260421T113605
CREATED:20260324T091314Z
LAST-MODIFIED:20260324T091314Z
UID:2376201-1777109400-1777118400@acgc.eu
SUMMARY:Conseil d'administration
DESCRIPTION:
URL:https://acgc.eu/event/conseil-dadministration-5/
LOCATION:Permanence\, 34 route de Nîmes\, Clarensac\, 30870\, France
CATEGORIES:Conseil d'Administration
ATTACH;FMTTYPE=image/jpeg:https://acgc.eu/wp-content/uploads/2022/12/LocalAcgcClarensac.jpeg
ORGANIZER;CN="ACGC":MAILTO:contact@acgc.eu
END:VEVENT
BEGIN:VEVENT
DTSTART;TZID=Europe/Paris:20260513T143000
DTEND;TZID=Europe/Paris:20260513T170000
DTSTAMP:20260421T113605
CREATED:20251212T080414Z
LAST-MODIFIED:20251212T080414Z
UID:2334121-1778682600-1778691600@acgc.eu
SUMMARY:Permanence
DESCRIPTION:Simone MEISSONNIER et Anne Marie MARTELLUCCI vous accueillerons de 14h00 à 16h30
URL:https://acgc.eu/event/permanence-61/
LOCATION:Permanence\, 34 route de Nîmes\, Clarensac\, 30870\, France
CATEGORIES:Permanence
ATTACH;FMTTYPE=image/jpeg:https://acgc.eu/wp-content/uploads/2022/12/LocalAcgcClarensac.jpeg
ORGANIZER;CN="ACGC":MAILTO:contact@acgc.eu
END:VEVENT
BEGIN:VEVENT
DTSTART;TZID=Europe/Paris:20260520T140000
DTEND;TZID=Europe/Paris:20260520T160000
DTSTAMP:20260421T113605
CREATED:20251212T080756Z
LAST-MODIFIED:20251212T080756Z
UID:2334140-1779285600-1779292800@acgc.eu
SUMMARY:Cours de paléographie
DESCRIPTION:
URL:https://acgc.eu/event/cours-de-paleographie-49/
LOCATION:Permanence\, 34 route de Nîmes\, Clarensac\, 30870\, France
CATEGORIES:Paléographie
ATTACH;FMTTYPE=image/webp:https://acgc.eu/wp-content/uploads/2023/02/Paleo.webp
ORGANIZER;CN="ACGC":MAILTO:contact@acgc.eu
END:VEVENT
BEGIN:VEVENT
DTSTART;TZID=Europe/Paris:20260528T143000
DTEND;TZID=Europe/Paris:20260528T170000
DTSTAMP:20260421T113605
CREATED:20251212T080438Z
LAST-MODIFIED:20251212T080438Z
UID:2334124-1779978600-1779987600@acgc.eu
SUMMARY:Permanence
DESCRIPTION:Simone MEISSONNIER et Anne Marie MARTELLUCCI vous accueillerons de 14h00 à 16h30
URL:https://acgc.eu/event/permanence-62/
LOCATION:Permanence\, 34 route de Nîmes\, Clarensac\, 30870\, France
CATEGORIES:Permanence
ATTACH;FMTTYPE=image/jpeg:https://acgc.eu/wp-content/uploads/2022/12/LocalAcgcClarensac.jpeg
ORGANIZER;CN="ACGC":MAILTO:contact@acgc.eu
END:VEVENT
BEGIN:VEVENT
DTSTART;TZID=Europe/Paris:20260530T090000
DTEND;TZID=Europe/Paris:20260530T170000
DTSTAMP:20260421T113605
CREATED:20251212T081715Z
LAST-MODIFIED:20251212T081715Z
UID:2334160-1780131600-1780160400@acgc.eu
SUMMARY:Rencontre Mialet
DESCRIPTION:infos à venir\n 
URL:https://acgc.eu/event/rencontre-mialet/
LOCATION:Mialet
CATEGORIES:Réunion Trimestrielle
ATTACH;FMTTYPE=image/jpeg:https://acgc.eu/wp-content/uploads/2022/12/CoucheDeSoleilEtSentierEnCevennes.jpg
ORGANIZER;CN="ACGC":MAILTO:contact@acgc.eu
END:VEVENT
BEGIN:VEVENT
DTSTART;TZID=Europe/Paris:20260610T143000
DTEND;TZID=Europe/Paris:20260610T170000
DTSTAMP:20260421T113605
CREATED:20251212T080516Z
LAST-MODIFIED:20251212T080516Z
UID:2334126-1781101800-1781110800@acgc.eu
SUMMARY:Permanence
DESCRIPTION:Simone MEISSONNIER et Anne Marie MARTELLUCCI vous accueillerons de 14h00 à 16h30
URL:https://acgc.eu/event/permanence-63/
LOCATION:Permanence\, 34 route de Nîmes\, Clarensac\, 30870\, France
CATEGORIES:Permanence
ATTACH;FMTTYPE=image/jpeg:https://acgc.eu/wp-content/uploads/2022/12/LocalAcgcClarensac.jpeg
ORGANIZER;CN="ACGC":MAILTO:contact@acgc.eu
END:VEVENT
BEGIN:VEVENT
DTSTART;TZID=Europe/Paris:20260617T140000
DTEND;TZID=Europe/Paris:20260617T160000
DTSTAMP:20260421T113605
CREATED:20251212T080816Z
LAST-MODIFIED:20251212T080816Z
UID:2334142-1781704800-1781712000@acgc.eu
SUMMARY:Cours de paléographie
DESCRIPTION:
URL:https://acgc.eu/event/cours-de-paleographie-50/
LOCATION:Permanence\, 34 route de Nîmes\, Clarensac\, 30870\, France
CATEGORIES:Paléographie
ATTACH;FMTTYPE=image/webp:https://acgc.eu/wp-content/uploads/2023/02/Paleo.webp
ORGANIZER;CN="ACGC":MAILTO:contact@acgc.eu
END:VEVENT
BEGIN:VEVENT
DTSTART;TZID=Europe/Paris:20260625T143000
DTEND;TZID=Europe/Paris:20260625T170000
DTSTAMP:20260421T113605
CREATED:20251212T080539Z
LAST-MODIFIED:20251212T080539Z
UID:2334128-1782397800-1782406800@acgc.eu
SUMMARY:Permanence
DESCRIPTION:Simone MEISSONNIER et Anne Marie MARTELLUCCI vous accueillerons de 14h00 à 16h30
URL:https://acgc.eu/event/permanence-64/
LOCATION:Permanence\, 34 route de Nîmes\, Clarensac\, 30870\, France
CATEGORIES:Permanence
ATTACH;FMTTYPE=image/jpeg:https://acgc.eu/wp-content/uploads/2022/12/LocalAcgcClarensac.jpeg
ORGANIZER;CN="ACGC":MAILTO:contact@acgc.eu
END:VEVENT
BEGIN:VEVENT
DTSTART;TZID=Europe/Paris:20260822T090000
DTEND;TZID=Europe/Paris:20260822T170000
DTSTAMP:20260421T113605
CREATED:20251212T081850Z
LAST-MODIFIED:20251212T081850Z
UID:2334166-1787389200-1787418000@acgc.eu
SUMMARY:Rencontre St Germain de Calberte
DESCRIPTION:infos à venir\n 
URL:https://acgc.eu/event/rencontre-st-germain-de-calberte/
LOCATION:Saint-Germain-de-Calberte
CATEGORIES:Réunion Trimestrielle
ATTACH;FMTTYPE=image/jpeg:https://acgc.eu/wp-content/uploads/2022/12/CoucheDeSoleilEtSentierEnCevennes.jpg
ORGANIZER;CN="ACGC":MAILTO:contact@acgc.eu
END:VEVENT
END:VCALENDAR